BEGIN:VCALENDAR
VERSION:2.0
PRODID:-//ChamberMaster//Event Calendar 2.0//EN
METHOD:PUBLISH
X-PUBLISHED-TTL:P3D
REFRESH-INTERVAL:P3D
CALSCALE:GREGORIAN
BEGIN:VEVENT
DTSTART:20120719T210000Z
DTEND:20120720T010000Z
X-MICROSOFT-CDO-ALLDAYEVENT:FALSE
SUMMARY:Wellness in the Market
DESCRIPTION:"Wellness in the Market" strives to enhance the quality of life of the Lincoln Square community by promoting options for a healthier lifestyle. By highlighting the various health products\, care\, and fitness opportunities available in Lincoln Square "Wellness in the Market" will bring together local businesses and consumers in a way that will transform the well-being of all.  The idea to run this event in conjunction with the Thursday Evening Farmers' Market came from a nonprofit organization located in New York City that utilizes their Farmers' Market city permit to promote youth wellness and fitness activities.
X-ALT-DESC;FMTTYPE=text/html:<div style="color: gray">\n	&nbsp\;&ldquo\;Wellness in the Market&rdquo\; strives to enhance the quality of life of the Lincoln Square community by promoting options for a healthier lifestyle. By highlighting the various health products\, care\, and fitness opportunities available in Lincoln Square &ldquo\;Wellness in the Market&rdquo\; will bring together local businesses and consumers in a way that will transform the well-being of all.&nbsp\; The idea to run this event in conjunction with the Thursday Evening Farmers&rsquo\; Market came from a nonprofit organization located in New York City that utilizes their Farmers&rsquo\; Market city permit to promote youth wellness and fitness activities.<br />\n	&nbsp\;</div>\n
LOCATION:CTA plaza at the corner of Western and Leland Ave.
UID:e.697.3569
SEQUENCE:3
DTSTAMP:20260419T204425Z
URL:https://www.lincolnsquare.org/events/details/wellness-in-the-market-3569
END:VEVENT

END:VCALENDAR
