BEGIN:VCALENDAR
VERSION:2.0
PRODID:-//ChamberMaster//Event Calendar 2.0//EN
METHOD:PUBLISH
X-PUBLISHED-TTL:P3D
REFRESH-INTERVAL:P3D
CALSCALE:GREGORIAN
BEGIN:VEVENT
DTSTART:20110505T220000Z
DTEND:20110506T010000Z
X-MICROSOFT-CDO-ALLDAYEVENT:FALSE
SUMMARY:Wellness in the Square
DESCRIPTION:
X-ALT-DESC;FMTTYPE=text/html:
LOCATION:Participating businesses in Lincoln Square
UID:e.697.853
SEQUENCE:3
DTSTAMP:20260420T174541Z
URL:https://www.lincolnsquare.org/events/details/wellness-in-the-square-853
END:VEVENT

END:VCALENDAR
