BEGIN:VCALENDAR
VERSION:2.0
PRODID:-//ChamberMaster//Event Calendar 2.0//EN
METHOD:PUBLISH
X-PUBLISHED-TTL:P3D
REFRESH-INTERVAL:P3D
CALSCALE:GREGORIAN
BEGIN:VEVENT
DTSTART:20111104T003000Z
DTEND:20111104T023000Z
X-MICROSOFT-CDO-ALLDAYEVENT:FALSE
SUMMARY:Whiskey & Rock at The Grafton
DESCRIPTION:Whiskey & Rock\n\n	Thursday\, November 3\n\n	7:30pm - 9:30pm\n\n	Featuring\n\n	Dewar's\n\n	12 Year & More\n\n	Come on by and speak with the Dewars folks and try some 12 Year.  We'll be offering specials on White Label\, 12 year and 18 year.  Have a taste\, learn about the Dewars family and enjoy the night!\n\n	\n\n	LIVE MUSIC STARTING AT 9:30pm\n\n	NORTHER MAGNOLIA\n\n	A Chicago based group bringing American roots rock with powerful & confident vocals\, tasty twang and tons of heart.\n\n	www.northernmagnolia.bandcamp.com
X-ALT-DESC;FMTTYPE=text/html:<p style="text-align: center\;">\n	<span style="font-size: 24px\;"><strong><span style="font-family: comic sans ms\;">Whiskey &amp\; Rock</span></strong></span></p>\n<p style="text-align: center\;">\n	<span style="font-size: 16px\;"><span style="font-family: comic sans ms\;">Thursday\, November 3<br />\n	7:30pm - 9:30pm</span></span></p>\n<p style="text-align: center\;">\n	<span style="font-size: 16px\;"><span style="font-family: comic sans ms\;"><strong>Featuring<br />\n	Dewar&#39\;s</strong><br />\n	12 Year &amp\; More</span></span></p>\n<p style="text-align: center\;">\n	Come on by and speak with the Dewars folks and try some 12 Year.&nbsp\; We&#39\;ll be offering specials on White Label\, 12 year and 18 year.&nbsp\; Have a taste\, learn about the Dewars family and enjoy the night!</p>\n<p style="text-align: center\;">\n	<br />\n	LIVE MUSIC STARTING AT 9:30pm<br />\n	<strong>NORTHER MAGNOLIA</strong><br />\n	A Chicago based group bringing American roots rock with powerful &amp\; confident vocals\, tasty twang and tons of heart.<br />\n	www.northernmagnolia.bandcamp.com</p>\n
LOCATION:The Grafton 4530 N. Lincoln Avenue
UID:e.697.2188
SEQUENCE:3
DTSTAMP:20260420T082249Z
URL:https://www.lincolnsquare.org/events/details/whiskey-rock-at-the-grafton-2188
END:VEVENT

END:VCALENDAR
