BEGIN:VCALENDAR
VERSION:2.0
PRODID:-//ChamberMaster//Event Calendar 2.0//EN
METHOD:PUBLISH
X-PUBLISHED-TTL:P3D
REFRESH-INTERVAL:P3D
CALSCALE:GREGORIAN
BEGIN:VEVENT
DTSTART:20110525T000000Z
DTEND:20110525T010000Z
X-MICROSOFT-CDO-ALLDAYEVENT:FALSE
SUMMARY:Why Depression Affects Some People and Not Others ? The Human Psyche According T
DESCRIPTION:Why Depression Affects Some People and Not Others ? The Human Psyche According To Traditional Chinese Medicine\n\nPresented by Tracie Hinton-Chavez\, Licensed Chicago Acupuncturist\n\nTuesday: May 24th 2011 at 7PM\n\nRavenswood Chiropractic & Wellness Center \n\n5215 North Ravenswood\, Suite 105\n\nChicago\, IL 60640\n\n773.878.7330\n\nwww.RennWellness.com\n\ninfo@RennWellness.com\n\nDid you know that Traditional Chinese Medicine (TCM) does not have a word for depression as an illness in its vocabulary?  Find out why on Tuesday\, May 24th\, at 7pm\, as Tracie Hinton-Chavez\, LAc.\, discusses the concept of depression from a  TCM viewpoint and why the World Health organization has approved acupuncture as a treatment for depression.  Also\, learn about current research and treatment strategies.  Everyone is welcome.  Seating is limited\; please pre-register for this event at the event section of our website www.RennWellness.com by Monday\, May 23rd or by calling us at 773.878.7330.
X-ALT-DESC;FMTTYPE=text/html:Why Depression Affects Some People and Not Others ? The Human Psyche According To Traditional Chinese Medicine\n<br>Presented by Tracie Hinton-Chavez\, Licensed Chicago Acupuncturist\n<br>Tuesday: May 24th 2011 at 7PM\n<br>Ravenswood Chiropractic &amp\; Wellness Center \n<br>5215 North Ravenswood\, Suite 105\n<br>Chicago\, IL 60640\n<br>773.878.7330\n<br>www.RennWellness.com\n<br>info@RennWellness.com\n<br>Did you know that Traditional Chinese Medicine (TCM) does not have a word for depression as an illness in its vocabulary?  Find out why on Tuesday\, May 24th\, at 7pm\, as Tracie Hinton-Chavez\, LAc.\, discusses the concept of depression from a  TCM viewpoint and why the World Health organization has approved acupuncture as a treatment for depression.  Also\, learn about current research and treatment strategies.  Everyone is welcome.  Seating is limited\; please pre-register for this event at the event section of our website www.RennWellness.com by Monday\, May 23rd or by calling us at 773.878.7330.\n<br>
LOCATION:Ravenswood Chiropractic & Wellness Center 5215 North Ravenswood\, Suite 105
UID:e.697.852
SEQUENCE:3
DTSTAMP:20260420T174844Z
URL:https://www.lincolnsquare.org/events/details/why-depression-affects-some-people-and-not-others-the-human-psyche-according-t-852
END:VEVENT

END:VCALENDAR
