BEGIN:VCALENDAR
VERSION:2.0
PRODID:-//ChamberMaster//Event Calendar 2.0//EN
METHOD:PUBLISH
X-PUBLISHED-TTL:P3D
REFRESH-INTERVAL:P3D
CALSCALE:GREGORIAN
BEGIN:VEVENT
DTSTART:20110219T220000Z
DTEND:20110220T010000Z
X-MICROSOFT-CDO-ALLDAYEVENT:FALSE
SUMMARY:Women's Day Out
DESCRIPTION:Kelly Chiropractic is teaming up with Chicago Women?s Health Center to make healthcare more accessible to women of all backgrounds.  Kelly Chiropractic will host a Women?s Day Out event to benefit the Chicago Women's Health Center.  Sponsors include Thairapy Plus and Orange Shoe.  Attendees will enjoy a range of activities from massages\, manicures\, and a fitness demo to women?s health information\, spinal screenings\, hair consultations\, and delightful hors d'oeuvres.       \n\n\n\nIn 1975\, Chicago Women?s Health Center was created with the mission of offering affordable\, educational\, and sensitive gynecological services that emphasized self-examination and a peer approach to healthcare.  Located on Sheffield Avenue in Lakeview\, they continue this mission as the only remaining collectively run women?s health center in the country. CWHC offers services to over 6\,000 clients each year providing care to all women and trans people regardless of income\, race\, religion\, age\, or ability.  Having outgrown the current location\, the CWHC?s Capital Campaign is raising money to move to a new location.  With a matching grant from the Topfer Family Foundation\, every dollar raised through Women?s Day Out will be doubled.
X-ALT-DESC;FMTTYPE=text/html:Kelly Chiropractic is teaming up with Chicago Women?s Health Center to make healthcare more accessible to women of all backgrounds.  Kelly Chiropractic will host a Women?s Day Out event to benefit the Chicago Women's Health Center.  Sponsors include Thairapy Plus and Orange Shoe.  Attendees will enjoy a range of activities from massages\, manicures\, and a fitness demo to women?s health information\, spinal screenings\, hair consultations\, and delightful hors d'oeuvres.       \n<br>\n<br>In 1975\, Chicago Women?s Health Center was created with the mission of offering affordable\, educational\, and sensitive gynecological services that emphasized self-examination and a peer approach to healthcare.  Located on Sheffield Avenue in Lakeview\, they continue this mission as the only remaining collectively run women?s health center in the country. CWHC offers services to over 6\,000 clients each year providing care to all women and trans people regardless of income\, race\, religion\, age\, or ability.  Having outgrown the current location\, the CWHC?s Capital Campaign is raising money to move to a new location.  With a matching grant from the Topfer Family Foundation\, every dollar raised through Women?s Day Out will be doubled.\n<br>
LOCATION:Kelly Chiropractic 4223 N. Lincoln Ave.
UID:e.697.758
SEQUENCE:3
DTSTAMP:20260420T221459Z
URL:https://www.lincolnsquare.org/events/details/women-s-day-out-758
END:VEVENT

END:VCALENDAR
