BEGIN:VCALENDAR
VERSION:2.0
PRODID:-//ChamberMaster//Event Calendar 2.0//EN
METHOD:PUBLISH
X-PUBLISHED-TTL:P3D
REFRESH-INTERVAL:P3D
CALSCALE:GREGORIAN
BEGIN:VEVENT
DTSTART:20110112T143000Z
DTEND:20110112T153000Z
X-MICROSOFT-CDO-ALLDAYEVENT:FALSE
SUMMARY:Women's Networking
DESCRIPTION:2011 Women's Networking Kickoff\n\n	 Wednesday\, January 12th\n\n	 8:30am\n\n	Julius Meinl\n \n\nCome and hear about the exciting new Women's Leadership and Life Coaching program we will be starting in February!
X-ALT-DESC;FMTTYPE=text/html:<p style="text-align: center">\n	<br />\n	<br />\n	<span style="font-size: medium"><span style="color: #857458"><span style="font-family: segoe print">2011 Women&#39\;s Networking Kickoff</span></span></span><br />\n	<span style="font-size: medium"><span style="color: #857458"><span style="font-family: segoe print">&nbsp\;Wednesday\, January&nbsp\;12th</span></span></span></p>\n<p style="text-align: center">\n	<span style="font-size: medium"><span style="color: #857458"><span style="font-family: segoe print">&nbsp\;8:30am</span></span></span></p>\n<p style="text-align: center">\n	<span style="font-size: medium"><span style="color: #857458"><span style="font-family: segoe print">Julius Meinl</span></span></span></p>\n&nbsp\;<br />\n<span style="color: #857458"><span style="font-family: segoe print"><span style="font-size: medium">Come and hear about the exciting new Women&#39\;s Leadership and Life Coaching program we will be starting in February!&nbsp\;</span></span></span><br />\n
LOCATION:Julius Meinl 4363 N Lincoln
UID:e.697.694
SEQUENCE:3
DTSTAMP:20260420T235737Z
URL:https://www.lincolnsquare.org/events/details/women-s-networking-694
END:VEVENT

END:VCALENDAR
