BEGIN:VCALENDAR
VERSION:2.0
PRODID:-//ChamberMaster//Event Calendar 2.0//EN
METHOD:PUBLISH
X-PUBLISHED-TTL:P3D
REFRESH-INTERVAL:P3D
CALSCALE:GREGORIAN
BEGIN:VEVENT
DTSTART:20100618T110000Z
DTEND:20100618T140000Z
X-MICROSOFT-CDO-ALLDAYEVENT:FALSE
SUMMARY:World Cup Viewing Party Ger v Serbia Live
DESCRIPTION:Despite some setbacks in the team roster\, it's no reason not to cheer on the Germans as they duke it out with Serbia.\n\nPastries and coffee or beer and pretzels - whatever your fruhstuck of choice
X-ALT-DESC;FMTTYPE=text/html:Despite some setbacks in the team roster\, it's no reason not to cheer on the Germans as they duke it out with Serbia.\n<br>Pastries and coffee or beer and pretzels - whatever your fruhstuck of choice
LOCATION:4740 N Western Ave \, 2nd Brandenburg Room
UID:e.697.558
SEQUENCE:3
DTSTAMP:20260421T105027Z
URL:https://www.lincolnsquare.org/events/details/world-cup-viewing-party-ger-v-serbia-live-558
END:VEVENT

END:VCALENDAR
